BEGIN:VCALENDAR
VERSION:2.0
PRODID:http://www.marmara.at/
METHOD:PUBLISH
BEGIN:VEVENT
LOCATION:online   
UID:9599
CLASS:PUBLIC
SUMMARY:Förderungen für Gebäudesanierung und Heizungstausch    
DTSTART:20260506T160000
DTEND:20260506T173000
DTSTAMP:20260423T160343Z
DESCRIPTION:Beim Online Infovortrag erhalten Sie wichtige Informationen zu den Förderungsmöglichkeiten für Sanierungsprojekte (Gebäudesanierung und Heizungstausch). Schwerpunktmäßig wird auf die neue "Sanierungoffensive 2026" aus Bundesmitteln eingegangen, wobei für 2026 nur noch Förderungsmittel für den Heizungstausch zur Verfügung stehen. Darüber hinaus wird auch über weitere Förderungs­möglichkeiten (Eigenheim­sanierungsförderung des Landes Niederösterreich, Förderung "Sauber Heizen für Alle" für einkommensschwache Haushalte) informiert.

Programmpunkte des Infotermins:

• Detailinformationen zu den verschiedenen Förderungsangeboten
• Voraussetzungen
• Förderungshöhe
• Fristen
• Ablauf der Förderungseinreichung
• Energieberatungsprotokoll
• Kombination von Förderungen 
• Weitere Infos zu Fragen aus dem Chat

Sie haben während des Vortrages die Möglichkeit, über die Chatfunktion Fragen zu stellen.

END:VEVENT
END:VCALENDAR
