BEGIN:VCALENDAR
VERSION:2.0
PRODID:http://www.marmara.at/
METHOD:PUBLISH
BEGIN:VEVENT
LOCATION: 3430 Messegelände 
UID:7982
CLASS:PUBLIC
SUMMARY:HausBau + EnergieSparen Tulln 2026
DTSTART:20260116T080000
DTEND:20260118T080000
DTSTAMP:20260420T014619Z
DESCRIPTION:280 Fachaussteller präsentieren auf der HausBau + EnergieSparen Tulln das komplette Angebot aus allen Bereichen des privaten Hausbaus: Bauen & Umbauen, Wohnen & Einrichten, Energiesparen & Heiztechnik.

Darüber hinaus können Sie sich durch zahlreiche unabhängige Kooperationspartner der Messe Tulln direkt vor Ort beraten lassen.

END:VEVENT
END:VCALENDAR
